BEGIN:VCALENDAR
VERSION:2.0
PRODID:-//Shelter Learniverse - ECPv6.15.20//NONSGML v1.0//EN
CALSCALE:GREGORIAN
METHOD:PUBLISH
X-WR-CALNAME:Shelter Learniverse
X-ORIGINAL-URL:https://www.sheltermedportal.com
X-WR-CALDESC:Events for Shelter Learniverse
REFRESH-INTERVAL;VALUE=DURATION:PT1H
X-Robots-Tag:noindex
X-PUBLISHED-TTL:PT1H
BEGIN:VTIMEZONE
TZID:America/Los_Angeles
BEGIN:DAYLIGHT
TZOFFSETFROM:-0800
TZOFFSETTO:-0700
TZNAME:PDT
DTSTART:20240310T100000
END:DAYLIGHT
BEGIN:STANDARD
TZOFFSETFROM:-0700
TZOFFSETTO:-0800
TZNAME:PST
DTSTART:20241103T090000
END:STANDARD
BEGIN:DAYLIGHT
TZOFFSETFROM:-0800
TZOFFSETTO:-0700
TZNAME:PDT
DTSTART:20250309T100000
END:DAYLIGHT
BEGIN:STANDARD
TZOFFSETFROM:-0700
TZOFFSETTO:-0800
TZNAME:PST
DTSTART:20251102T090000
END:STANDARD
BEGIN:DAYLIGHT
TZOFFSETFROM:-0800
TZOFFSETTO:-0700
TZNAME:PDT
DTSTART:20260308T100000
END:DAYLIGHT
BEGIN:STANDARD
TZOFFSETFROM:-0700
TZOFFSETTO:-0800
TZNAME:PST
DTSTART:20261101T090000
END:STANDARD
END:VTIMEZONE
BEGIN:VEVENT
DTSTART;TZID=America/Los_Angeles:20251103T110000
DTEND;TZID=America/Los_Angeles:20251103T120000
DTSTAMP:20260421T191605
CREATED:20250818T175543Z
LAST-MODIFIED:20251125T011218Z
UID:10006288-1762167600-1762171200@www.sheltermedportal.com
SUMMARY:Online Meeting - Mondays - Weekly Community Conversations #ThanksToMaddie - Maddie's Fund
DESCRIPTION:Maddie’s Fund hosts a weekly 50-minute Zoom call for animal well-being professionals. These calls are a collaborative space to share exciting new programs and research\, discuss uncomfortable topics\, connect with peers in the industry\, and more\, all while sharing a common goal of preserving the human-animal bond. \nWho Should Join?\nExecutive directors\, animal well-being leaders\, shelter workers\, pet support professionals\, volunteers\, rescue organizations and anyone who shares the common goal of preserving the human-animal bond. \nWin Ca$h for Attending!\nEach month\, Maddie’s Fund will be giving away up to $5\,000 in grants. You can enter to win each time you attend a call or watch on-demand during the month by completing the giveaway drawing entry forms shared in the chat during the calls. \nRegister Today\nJoin us each Monday at 11am PT/2pm ET to receive support and learn about innovative ideas other organizations across the country are seeing success with. If you registered prior to July 2025 or are new to these meetings\, please use this link to register:\nhttps://maddies.fund/CommunityConversationsRegistration2025 \nAll calls are recorded and uploaded to the Community Conversations page on Maddie’s Pet Forum https://forum.maddiesfund.org/communityconversations \nPlease note: All views expressed on these calls are not necessarily endorsed by Maddie’s Fund. \nWEBSITE LINK:  https://maddies.fund/CommunityConversationsRegistration2025
URL:https://www.sheltermedportal.com/event/online-meeting-mondays-weekly-community-conversations-thankstomaddie-maddies-fund-2-2-2-2-3-6-2-2-3-2-2-3/2025-11-03/
LOCATION:Virtual
CATEGORIES:Zoom Meeting
ATTACH;FMTTYPE=image/png:https://www.sheltermedportal.com/wp-content/uploads/2024/05/Weekly-Community-ConverastionsSquare_2.png
END:VEVENT
BEGIN:VEVENT
DTSTART;TZID=America/Los_Angeles:20251104T040000
DTEND;TZID=America/Los_Angeles:20251104T160000
DTSTAMP:20260421T191605
CREATED:20250811T174320Z
LAST-MODIFIED:20250811T174320Z
UID:10006125-1762228800-1762272000@www.sheltermedportal.com
SUMMARY:Conference - 11/4/25 to 11/6/25 - The Annual Conference 2025 - The AAWA (fee applies)
DESCRIPTION:The Annual Conference from The Association for Animal Welfare Advancement\, November 4-6 \nPlus a pre-conference daylong: The Network Live – November 3 \nAtlanta\, GA \nQuestions? Email learning@theaawa.org \nDeepen your expertise with skill-building content tailored for intermediate and advanced professionals. You’ll leave with practical tools\, fresh insights\, and new strategies to bring back to your organization. Conference Tracks: \n\nCollaborative & Strategic Leadership\nCommunications & Marketing\nFundraising\nStrategic Workforces\n\nThis conference is as much about the people as it is the programming. You’ll have ample opportunities to connect with colleagues from across the country—representing a wide array of roles\, perspectives\, and lived experiences. \nWEBSITE LINK: https://theaawaconference.org/
URL:https://www.sheltermedportal.com/event/conference-11-4-25-to-11-6-25-the-annual-conference-2025-the-aawa-fee-applies/2025-11-04/
LOCATION:The Westin Peachtree Plaza\, Atlanta\, GA\, United States
CATEGORIES:Conference
ATTACH;FMTTYPE=image/jpeg:https://www.sheltermedportal.com/wp-content/uploads/2025/08/AAWA_ATLANTA-2025_Facebook-820x360-1.jpg
END:VEVENT
BEGIN:VEVENT
DTSTART;TZID=America/Los_Angeles:20251104T100000
DTEND;TZID=America/Los_Angeles:20251104T111500
DTSTAMP:20260421T191605
CREATED:20250922T222128Z
LAST-MODIFIED:20250924T011954Z
UID:10006240-1762250400-1762254900@www.sheltermedportal.com
SUMMARY:Webinar - 11/4/25 - Equine Cruelty Investigations: There’s a Form for That! - NACA/Justice Clearinghouse
DESCRIPTION:Drs. Abby Sage and Jennifer LaPlume will use forms they have developed to walk you through the pre-planning steps for an equine cruelty investigation\, including on-site assessments and triage and the formation of an action plan backed up with owner resources. They will then use case examples to illustrate how to utilize these forms. \nAbby Sage and Jennifer LaPlume\, both equine veterinarians\, cofounded the Virginia Veterinary Equine Welfare Resource\, the first of its kind group that developed training for equine veterinarians in Virginia in forensics\, who then assist on-site with ACO’s in Virginia. They then developed these forms to help all parties\, including ACO’s\, veterinarians\, owners\, and rescues. Both have extensive experience assisting law enforcement in Virginia on equine cruelty cases. \nSpecifics discussed will be: \n\nAssessing the facility\, environment\, barns\, enclosures\, cleanliness\, nutrition provided\, pasture\, hay\, feed\, forage\, medications\nTriage for ACO’s and veterinarians\nFormation of an Action Plan Agreement that will guide easy communication and step-wise instructions for the horse owner.\nFinally\, cases will be used to help you decide\, “Why is that horse skinny?” Was it just purchased\, not getting enough proper nutrition\, sick\, low in hierarchy\, or willful neglect?\n\nThis webinar has been certified by the National Animal Care & Control Association and is approved for 1 Continuing Education Unit. Please refer to your NACA membership portal for current CEU submission process. Current NACA Members who attend the live presentation or watch the recording will be able to download a jointly issued attendance certificate that includes the National Animal Care & Control Association logo. Visit the NACA training page for a complete list of future trainings. \nWEBSITE LINK: https://www.justiceclearinghouse.com/webinar/equine-cruelty-investigations-theres-a-form-for-that/
URL:https://www.sheltermedportal.com/event/webinar-11-4-25-equine-cruelty-investigations-theres-a-form-for-that-naca-justice-clearinghouse/
LOCATION:Virtual
CATEGORIES:Webinar
ATTACH;FMTTYPE=image/jpeg:https://www.sheltermedportal.com/wp-content/uploads/2025/09/Equine-Cruelty-Investigations-Theres-a-Form-NACA-427190074.jpg
END:VEVENT
BEGIN:VEVENT
DTSTART;TZID=America/Los_Angeles:20251104T120000
DTEND;TZID=America/Los_Angeles:20251104T130000
DTSTAMP:20260421T191605
CREATED:20250707T181440Z
LAST-MODIFIED:20251020T183438Z
UID:10005983-1762257600-1762261200@www.sheltermedportal.com
SUMMARY:Online Event - 11/4/25 - All Call: Connecting Shelter Medicine and Mobile Outreach  - California for All Animals
DESCRIPTION:After nearly four years and 71 calls\, we hope you’ll be a part of our final All Call conversation on the intersection of shelter medicine and community outreach. \nOn Tuesday\, November 4\, at 12 p.m. PT\, Shelter Outreach Veterinary Assistant Ehani Hunter will share her journey from San Diego Humane Society’s shelter medicine team to their traveling HQHVSN clinic. Whether you’re curious about community-based veterinary work or exploring different pathways in shelter medicine\, this conversation will offer inspiration for how vet professionals can adapt and grow within the field. \nInvite a colleague and gather in gratitude for this community we’ve made together! \nThe All Call is a California community call for animal well-being professionals. The one-hour call is a dedicated space to share and learn from each other. Popular topics include initiatives that create a more inclusive culture for both staff and community\, programs that keep pets with their people\, industry trends\, research studies\, as well as the hard stuff\, like what’s not working or what is particularly difficult during times of scarcity. The call is a mix of presentations\, storytelling\, open discussion\, and Q&A time. \nThe All Call is hosted by the California for All Animals team\, Nadia Oseguera-Ramón\, Ivy Ruiz\, and Allison Cardona.  You only need to register one time. Calls are sometimes recorded; recap emails with supplemental resources are sent post-call. Find past call resources and recordings\, including the recent Multicultural Engagement Community of Practice series\, at the Cal for All Animals website. \nRegister here: https://tinyurl.com/all-call
URL:https://www.sheltermedportal.com/event/online-event-1st-and-3rd-tuesdays-all-call-california-for-all-animals-20-4/
LOCATION:Virtual
CATEGORIES:Online Event
ATTACH;FMTTYPE=image/png:https://www.sheltermedportal.com/wp-content/uploads/2024/01/AllCallCalendar.png
END:VEVENT
BEGIN:VEVENT
DTSTART;TZID=America/Los_Angeles:20251105T040000
DTEND;TZID=America/Los_Angeles:20251105T170000
DTSTAMP:20260421T191605
CREATED:20250811T174320Z
LAST-MODIFIED:20250811T174320Z
UID:10006126-1762315200-1762362000@www.sheltermedportal.com
SUMMARY:Conference - 11/4/25 to 11/6/25 - The Annual Conference 2025 - The AAWA (fee applies)
DESCRIPTION:The Annual Conference from The Association for Animal Welfare Advancement\, November 4-6 \nPlus a pre-conference daylong: The Network Live – November 3 \nAtlanta\, GA \nQuestions? Email learning@theaawa.org \nDeepen your expertise with skill-building content tailored for intermediate and advanced professionals. You’ll leave with practical tools\, fresh insights\, and new strategies to bring back to your organization. Conference Tracks: \n\nCollaborative & Strategic Leadership\nCommunications & Marketing\nFundraising\nStrategic Workforces\n\nThis conference is as much about the people as it is the programming. You’ll have ample opportunities to connect with colleagues from across the country—representing a wide array of roles\, perspectives\, and lived experiences. \nWEBSITE LINK: https://theaawaconference.org/
URL:https://www.sheltermedportal.com/event/conference-11-4-25-to-11-6-25-the-annual-conference-2025-the-aawa-fee-applies/2025-11-05/
LOCATION:The Westin Peachtree Plaza\, Atlanta\, GA\, United States
CATEGORIES:Conference
ATTACH;FMTTYPE=image/jpeg:https://www.sheltermedportal.com/wp-content/uploads/2025/08/AAWA_ATLANTA-2025_Facebook-820x360-1.jpg
END:VEVENT
BEGIN:VEVENT
DTSTART;TZID=America/Los_Angeles:20251105T163000
DTEND;TZID=America/Los_Angeles:20251105T173000
DTSTAMP:20260421T191605
CREATED:20251013T200746Z
LAST-MODIFIED:20251013T200746Z
UID:10006267-1762360200-1762363800@www.sheltermedportal.com
SUMMARY:Webinar - 11/5/25 - Classroom to Clinic: Neonatal and Early Kittenhood Emergencies - The National Kitten Coalition
DESCRIPTION:Are you a veterinary student or faculty member with a passion for feline health and welfare? Join the National Kitten Coalition this February for our RACE® CE-Approved Neonatal and Early Kittenhood Emergencies webinar tailored especially for you! \nSign up for our Classroom to Clinic mailing list to receive the registration link and stay updated on our future events and initiatives. \nWEBSITE LINK:  https://kittencoalition.org/event/classroom-to-clinic-neonatal-and-early-kittenhood-emergencies-2/
URL:https://www.sheltermedportal.com/event/webinar-11-5-25-classroom-to-clinic-neonatal-and-early-kittenhood-emergencies-the-national-kitten-coalition/
LOCATION:Virtual
CATEGORIES:Webinar
ATTACH;FMTTYPE=image/jpeg:https://www.sheltermedportal.com/wp-content/uploads/2025/10/C2C_Neonatal-and-Early-Kittenhood-Emergencies-Feb-2025-1.jpg
ORGANIZER;CN="The National Kitten Coalition":MAILTO:webevents@kittencoalition.org
END:VEVENT
BEGIN:VEVENT
DTSTART;TZID=America/Los_Angeles:20251106T040000
DTEND;TZID=America/Los_Angeles:20251106T140000
DTSTAMP:20260421T191605
CREATED:20250811T174320Z
LAST-MODIFIED:20250811T174320Z
UID:10006127-1762401600-1762437600@www.sheltermedportal.com
SUMMARY:Conference - 11/4/25 to 11/6/25 - The Annual Conference 2025 - The AAWA (fee applies)
DESCRIPTION:The Annual Conference from The Association for Animal Welfare Advancement\, November 4-6 \nPlus a pre-conference daylong: The Network Live – November 3 \nAtlanta\, GA \nQuestions? Email learning@theaawa.org \nDeepen your expertise with skill-building content tailored for intermediate and advanced professionals. You’ll leave with practical tools\, fresh insights\, and new strategies to bring back to your organization. Conference Tracks: \n\nCollaborative & Strategic Leadership\nCommunications & Marketing\nFundraising\nStrategic Workforces\n\nThis conference is as much about the people as it is the programming. You’ll have ample opportunities to connect with colleagues from across the country—representing a wide array of roles\, perspectives\, and lived experiences. \nWEBSITE LINK: https://theaawaconference.org/
URL:https://www.sheltermedportal.com/event/conference-11-4-25-to-11-6-25-the-annual-conference-2025-the-aawa-fee-applies/2025-11-06/
LOCATION:The Westin Peachtree Plaza\, Atlanta\, GA\, United States
CATEGORIES:Conference
ATTACH;FMTTYPE=image/jpeg:https://www.sheltermedportal.com/wp-content/uploads/2025/08/AAWA_ATLANTA-2025_Facebook-820x360-1.jpg
END:VEVENT
BEGIN:VEVENT
DTSTART;TZID=America/Los_Angeles:20251106T120000
DTEND;TZID=America/Los_Angeles:20251106T130000
DTSTAMP:20260421T191605
CREATED:20251020T195708Z
LAST-MODIFIED:20251020T195708Z
UID:10005286-1762430400-1762434000@www.sheltermedportal.com
SUMMARY:Online Event - 11/6/25 - Maddie's Monthly Foster Connection: Detective\, Educator\, Mediator: A Holistic Approach to Foster Behavior Support - Maddie's Fund
DESCRIPTION:Foster insights are invaluable to shelters & rescues\, and no concern should ever be dismissed or taken more lightly than the foster presents it. At the same time\, that initial presentation of a concern tends to only offer one perspective: the human’s. Zan’s presentation will walk through example cases of their tried and true process of taking an analytical approach that simultaneously gets to the root causes of an animal’s concerning or unwanted behaviors and promotes a more nuanced understanding of those animals’ needs among fosters\, all without sacrificing compassion for either. \nGuest Speaker: Zan Lowell \nAbout Maddie’s Monthly Foster Connection:\nJoin us on the first Thursday of every month to discuss successful foster innovations and programs\, collaborate with others in the field\, answer questions and talk through complex foster-related issues. \nWho should join: Foster managers\, coordinators\, volunteers and any staff who are interested in learning about what’s working in foster programs. \nYou only need to register once for all meetings: https://maddies.fund/MonthlyFosterRegistration \nCan’t attend live?  Register anyway and you will get a link to the recording within a day or two after each meeting. \nAll recordings and resources shared during the webcast will also be available in the Maddie’s Monthly Foster Connection group on Maddie’s Pet Forum https://maddies.fund/monthlyfosterconnectionMPF \nMaddie’s Fund does not share registration information. \nThe opinions expressed by webinar presenters are their own and do not necessarily represent those of Maddie’s Fund. \nWEBSITE LINK:  https://maddies.fund/MonthlyFosterRegistration
URL:https://www.sheltermedportal.com/event/online-event-first-thursdays-maddies-monthly-foster-connection-maddies-fund-8-11/
LOCATION:Virtual
CATEGORIES:Online Event
ATTACH;FMTTYPE=image/png:https://www.sheltermedportal.com/wp-content/uploads/2024/03/MaddiesMonthlyFosterConnection.png
END:VEVENT
END:VCALENDAR