BEGIN:VCALENDAR
VERSION:2.0
PRODID:-//Shelter Learniverse - ECPv6.15.20//NONSGML v1.0//EN
CALSCALE:GREGORIAN
METHOD:PUBLISH
X-WR-CALNAME:Shelter Learniverse
X-ORIGINAL-URL:https://www.sheltermedportal.com
X-WR-CALDESC:Events for Shelter Learniverse
REFRESH-INTERVAL;VALUE=DURATION:PT1H
X-Robots-Tag:noindex
X-PUBLISHED-TTL:PT1H
BEGIN:VTIMEZONE
TZID:America/Los_Angeles
BEGIN:DAYLIGHT
TZOFFSETFROM:-0800
TZOFFSETTO:-0700
TZNAME:PDT
DTSTART:20250309T100000
END:DAYLIGHT
BEGIN:STANDARD
TZOFFSETFROM:-0700
TZOFFSETTO:-0800
TZNAME:PST
DTSTART:20251102T090000
END:STANDARD
BEGIN:DAYLIGHT
TZOFFSETFROM:-0800
TZOFFSETTO:-0700
TZNAME:PDT
DTSTART:20260308T100000
END:DAYLIGHT
BEGIN:STANDARD
TZOFFSETFROM:-0700
TZOFFSETTO:-0800
TZNAME:PST
DTSTART:20261101T090000
END:STANDARD
BEGIN:DAYLIGHT
TZOFFSETFROM:-0800
TZOFFSETTO:-0700
TZNAME:PDT
DTSTART:20270314T100000
END:DAYLIGHT
BEGIN:STANDARD
TZOFFSETFROM:-0700
TZOFFSETTO:-0800
TZNAME:PST
DTSTART:20271107T090000
END:STANDARD
END:VTIMEZONE
BEGIN:VEVENT
DTSTART;TZID=America/Los_Angeles:20260125T100000
DTEND;TZID=America/Los_Angeles:20260125T170000
DTSTAMP:20260420T182125
CREATED:20251222T220233Z
LAST-MODIFIED:20251222T220233Z
UID:10006324-1769335200-1769360400@www.sheltermedportal.com
SUMMARY:Online Conference - 1/24/26 to 1/25/26 - Online Cat Conference 2026 - Community Cats Podcast (fee applies)
DESCRIPTION:Each year\, the global Community Cats Podcast community comes together for this unique virtual event—no travel required! \nTake part in two days filled with cat-centric content\, speakers from a wide variety of animal welfare roles share their perspectives on the field\, providing valuable insights to help you or your organization create a more humane world for community cats. \nAttendees can take advantage of the interactive format\, useful handouts\, and get access to an exclusive Facebook group to network with other cat-focused volunteers and professionals. \nThis online conference features presentations from Adopt a Pet\, Orphan Kitten Club\, Tompkins Foundation for FeLV Advocacy\, Kitty Cat Cafe and Adoption Lounge\, Neighborhood Cats\, International Cat Care\, and the University of Tennessee’s Program for Pet Health Equity. \nFor a limited time\, registration is just $50 and will give you access to the live event\, recorded sessions afterward\, speaker slides\, handouts\, and more. Use code TCC26EB at checkout to receive the discount. Early bird discounts end at midnight on December 25\, 2025. \nWEBSITE LINK:  https://communitycatscentral.thinkific.com/courses/2026CatCon
URL:https://www.sheltermedportal.com/event/online-conference-1-24-26-to-1-25-26-online-cat-conference-2026-community-cats-podcast-fee-applies/2026-01-25/
LOCATION:Virtual
CATEGORIES:Online Conference
ATTACH;FMTTYPE=image/png:https://www.sheltermedportal.com/wp-content/uploads/2025/12/CatConference2026CCP-e1766440917845.png
END:VEVENT
BEGIN:VEVENT
DTSTART;TZID=America/Los_Angeles:20260126T110000
DTEND;TZID=America/Los_Angeles:20260126T120000
DTSTAMP:20260420T182125
CREATED:20251210T164800Z
LAST-MODIFIED:20260113T203044Z
UID:10003214-1769425200-1769428800@www.sheltermedportal.com
SUMMARY:Online Meeting - Mondays - Weekly Community Conversations #ThanksToMaddie - Maddie's Fund
DESCRIPTION:Maddie’s Fund hosts a weekly 50-minute Zoom call for animal well-being professionals. These calls are a collaborative space to share exciting new programs and research\, discuss uncomfortable topics\, connect with peers in the industry\, and more\, all while sharing a common goal of preserving the human-animal bond. \nWho Should Join?\nExecutive directors\, animal well-being leaders\, shelter workers\, pet support professionals\, volunteers\, rescue organizations and anyone who shares the common goal of preserving the human-animal bond. \nWin Ca$h for Attending!\nEach month\, Maddie’s Fund will be giving away up to $5\,000 in grants. You can enter to win each time you attend a call or watch on-demand during the month by completing the giveaway drawing entry forms shared in the chat during the calls. \nRegister Today\nJoin us each Monday at 11am PT/2pm ET to receive support and learn about innovative ideas other organizations across the country are seeing success with. If you registered prior to July 2025 or are new to these meetings\, please use this link to register:\nhttps://maddies.fund/CommunityConversationsRegistration2025 \nAll calls are recorded and uploaded to the Community Conversations page on Maddie’s Pet Forum https://forum.maddiesfund.org/communityconversations \nPlease note: All views expressed on these calls are not necessarily endorsed by Maddie’s Fund. \nWEBSITE LINK:  https://maddies.fund/CommunityConversationsRegistration2025
URL:https://www.sheltermedportal.com/event/online-meeting-mondays-weekly-community-conversations-thankstomaddie-maddies-fund-2-2-2-2-3-6-2-2-3-2-2-3-3/2026-01-26/
LOCATION:Virtual
CATEGORIES:Zoom Meeting
ATTACH;FMTTYPE=image/png:https://www.sheltermedportal.com/wp-content/uploads/2024/05/Weekly-Community-ConverastionsSquare_2.png
END:VEVENT
BEGIN:VEVENT
DTSTART;TZID=America/Los_Angeles:20260127T123000
DTEND;TZID=America/Los_Angeles:20260127T140000
DTSTAMP:20260420T182125
CREATED:20260112T233834Z
LAST-MODIFIED:20260112T233834Z
UID:10006338-1769517000-1769522400@www.sheltermedportal.com
SUMMARY:Webinar - 1/22/26 or 1/27/26 - New Laws for 2026 - CVMA
DESCRIPTION:With several new laws taking effect in 2026\, it is important for veterinary practices to have a clear view of the legal landscape to ensure continuing compliance. This talk will cover new and important laws pertaining to veterinary practice\, as well as new general employment laws that apply to California businesses. The course qualifies as continuing education credit for the purpose of California veterinarian and registered veterinary technician license renewal. \nThis course qualifies for 1.5 CEUs. \nThis webinar is open to veterinarians\, veterinary technicians\, veterinary hospital staff\, and veterinary students only. \nThis course is complimentary to all CVMA members! \nWEBSITE LINK: https://cvma.net/continuing-education/upcoming-ce/new-laws-for-2026/
URL:https://www.sheltermedportal.com/event/webinar-1-22-26-or-1-27-26-new-laws-for-2026-cvma/2026-01-27/
LOCATION:Virtual
CATEGORIES:Webinar
ATTACH;FMTTYPE=image/png:https://www.sheltermedportal.com/wp-content/uploads/2026/01/sacramento-capitol_CVMAWebinar-e1768261087590.png
END:VEVENT
BEGIN:VEVENT
DTSTART;TZID=America/Los_Angeles:20260129T090000
DTEND;TZID=America/Los_Angeles:20260129T100000
DTSTAMP:20260420T182125
CREATED:20260126T215050Z
LAST-MODIFIED:20260126T215050Z
UID:10006348-1769677200-1769680800@www.sheltermedportal.com
SUMMARY:Webinar - 1/29/26 - Advancing One Health Systems for Pet Families and Communities - UT One Health Initiative
DESCRIPTION:Tune in for a special seminar as we celebrate One Health Awareness Month! This virtual presentation by T’ Fisher examines how integrated One Health systems can improve outcomes for pet families while strengthening community health and resilience. Grounded in the One Health framework\, the session highlights the importance of cross-sector collaboration among animal welfare\, public health\, veterinary medicine\, and human services. \nThe presentation will describe the work of the Program for Pet Health Equity (PPHE) and its efforts to address structural and systemic barriers that limit access to care for pets and their families. \nKey areas of focus include: \n\nDevelopment of integrated\, cross-sector service models that support pet families experiencing economic\, geographic\, or social barriers\nStrategic partnerships between animal welfare organizations and human-serving systems\, including public health\, housing\, and social services\nEducation and workforce development initiatives aimed at reducing bias\, increasing shared understanding\, and strengthening collaboration across disciplines\n\nAttendees will gain insight into applied One Health strategies that promote equity\, prevent family separation\, and support sustainable\, community-centered approaches to animal and human wellbeing. \nWEBSITE LINK:  https://tennessee.zoom.us/meeting/register/GhGbJtnNTRWCSSdrccb8Zw#/registration
URL:https://www.sheltermedportal.com/event/webinar-1-29-26-advancing-one-health-systems-for-pet-families-and-communities-ut-one-health-initiative/
LOCATION:Virtual
CATEGORIES:Webinar
ATTACH;FMTTYPE=image/png:https://www.sheltermedportal.com/wp-content/uploads/2026/01/OneHealthAwarenessMonthWebinar-e1769464204985.png
END:VEVENT
BEGIN:VEVENT
DTSTART;TZID=America/Los_Angeles:20260129T100000
DTEND;TZID=America/Los_Angeles:20260129T111500
DTSTAMP:20260420T182125
CREATED:20260112T230842Z
LAST-MODIFIED:20260112T231359Z
UID:10006335-1769680800-1769685300@www.sheltermedportal.com
SUMMARY:Webinar - 1/29/26 - What’s “Common” About Cruelty? Understanding Abuse and Neglect - NACA/Justice Clearinghouse
DESCRIPTION:The “What’s ‘Common’ About Cruelty?” webinar is designed to deepen the participants’ understanding of animal abuse and neglect\, which can often be prevalent within communities. This webinar will delve into the complexities of animal crimes\, emphasizing the importance of understanding the underlying issues and developing effective strategies to present a compelling and persuasive case\, particularly in scenarios where jurors may not immediately grasp the severity of the facts. \nThis webinar has been certified by the National Animal Care & Control Association and is approved for 1 Continuing Education Unit. \nPresenter: Betsy Biffl \nWEBSITE LINK: https://www.justiceclearinghouse.com/webinar/common-courtesy-and-common-cruelty-understanding-and-neglect/
URL:https://www.sheltermedportal.com/event/webinar-1-29-26-whats-common-about-cruelty-understanding-abuse-and-neglect-naca-justice-clearinghouse/
LOCATION:Virtual
CATEGORIES:Webinar
ATTACH;FMTTYPE=image/jpeg:https://www.sheltermedportal.com/wp-content/uploads/2026/01/Whats-Common-ALDF-NACA-784235098.jpg
END:VEVENT
BEGIN:VEVENT
DTSTART;TZID=America/Los_Angeles:20260129T100000
DTEND;TZID=America/Los_Angeles:20260129T113000
DTSTAMP:20260420T182125
CREATED:20260118T205325Z
LAST-MODIFIED:20260118T205334Z
UID:10006345-1769680800-1769686200@www.sheltermedportal.com
SUMMARY:Webinar - 1/29/26 - The Puppy Puzzle: Data-driven Insights into America’s New Dogs - Life of Riley
DESCRIPTION:Current sources of data on U.S. puppy “creation” reveal how much isn’t known about where puppies come from. To help fill the gap\, a survey of 4\,000 people (selected to align with the U.S. Census demographics) who recently acquired a puppy offers insights into the breeds and sources of new puppies\, owners’ acquisition journeys\, satisfaction with both puppy and that puppy’s source\, and more. Survey responses offer new data and insights that fill in knowledge gaps; identify issues and concerns that deserve further attention across animal sectors; and reveal the complexity and diversity of experiences among puppies and their people. \nSpeakers: Joyce Briggs and Valerie Benka \nWEBSITE LINK:  https://www.ticketleap.events/tickets/springpointpartners/the-puppy-puzzle-data-driven-insights-into-america-s-new-dogs
URL:https://www.sheltermedportal.com/event/webinar-1-29-26-life-of-riley/
LOCATION:Virtual
CATEGORIES:Webinar
ATTACH;FMTTYPE=image/png:https://www.sheltermedportal.com/wp-content/uploads/2026/01/LifeOfRileyWebinarJanuary2026.png
END:VEVENT
END:VCALENDAR