BEGIN:VCALENDAR
VERSION:2.0
PRODID:-//Shelter Learniverse - ECPv6.15.20//NONSGML v1.0//EN
CALSCALE:GREGORIAN
METHOD:PUBLISH
X-WR-CALNAME:Shelter Learniverse
X-ORIGINAL-URL:https://www.sheltermedportal.com
X-WR-CALDESC:Events for Shelter Learniverse
REFRESH-INTERVAL;VALUE=DURATION:PT1H
X-Robots-Tag:noindex
X-PUBLISHED-TTL:PT1H
BEGIN:VTIMEZONE
TZID:America/Los_Angeles
BEGIN:DAYLIGHT
TZOFFSETFROM:-0800
TZOFFSETTO:-0700
TZNAME:PDT
DTSTART:20250309T100000
END:DAYLIGHT
BEGIN:STANDARD
TZOFFSETFROM:-0700
TZOFFSETTO:-0800
TZNAME:PST
DTSTART:20251102T090000
END:STANDARD
BEGIN:DAYLIGHT
TZOFFSETFROM:-0800
TZOFFSETTO:-0700
TZNAME:PDT
DTSTART:20260308T100000
END:DAYLIGHT
BEGIN:STANDARD
TZOFFSETFROM:-0700
TZOFFSETTO:-0800
TZNAME:PST
DTSTART:20261101T090000
END:STANDARD
BEGIN:DAYLIGHT
TZOFFSETFROM:-0800
TZOFFSETTO:-0700
TZNAME:PDT
DTSTART:20270314T100000
END:DAYLIGHT
BEGIN:STANDARD
TZOFFSETFROM:-0700
TZOFFSETTO:-0800
TZNAME:PST
DTSTART:20271107T090000
END:STANDARD
END:VTIMEZONE
BEGIN:VEVENT
DTSTART;TZID=America/Los_Angeles:20260302T110000
DTEND;TZID=America/Los_Angeles:20260302T120000
DTSTAMP:20260421T130949
CREATED:20251210T164800Z
LAST-MODIFIED:20260113T203044Z
UID:10003219-1772449200-1772452800@www.sheltermedportal.com
SUMMARY:Online Meeting - Mondays - Weekly Community Conversations #ThanksToMaddie - Maddie's Fund
DESCRIPTION:Maddie’s Fund hosts a weekly 50-minute Zoom call for animal well-being professionals. These calls are a collaborative space to share exciting new programs and research\, discuss uncomfortable topics\, connect with peers in the industry\, and more\, all while sharing a common goal of preserving the human-animal bond. \nWho Should Join?\nExecutive directors\, animal well-being leaders\, shelter workers\, pet support professionals\, volunteers\, rescue organizations and anyone who shares the common goal of preserving the human-animal bond. \nWin Ca$h for Attending!\nEach month\, Maddie’s Fund will be giving away up to $5\,000 in grants. You can enter to win each time you attend a call or watch on-demand during the month by completing the giveaway drawing entry forms shared in the chat during the calls. \nRegister Today\nJoin us each Monday at 11am PT/2pm ET to receive support and learn about innovative ideas other organizations across the country are seeing success with. If you registered prior to July 2025 or are new to these meetings\, please use this link to register:\nhttps://maddies.fund/CommunityConversationsRegistration2025 \nAll calls are recorded and uploaded to the Community Conversations page on Maddie’s Pet Forum https://forum.maddiesfund.org/communityconversations \nPlease note: All views expressed on these calls are not necessarily endorsed by Maddie’s Fund. \nWEBSITE LINK:  https://maddies.fund/CommunityConversationsRegistration2025
URL:https://www.sheltermedportal.com/event/online-meeting-mondays-weekly-community-conversations-thankstomaddie-maddies-fund-2-2-2-2-3-6-2-2-3-2-2-3-3/2026-03-02/
LOCATION:Virtual
CATEGORIES:Zoom Meeting
ATTACH;FMTTYPE=image/png:https://www.sheltermedportal.com/wp-content/uploads/2024/05/Weekly-Community-ConverastionsSquare_2.png
END:VEVENT
BEGIN:VEVENT
DTSTART;TZID=America/Los_Angeles:20260303T120000
DTEND;TZID=America/Los_Angeles:20260303T131500
DTSTAMP:20260421T130949
CREATED:20260112T231221Z
LAST-MODIFIED:20260112T231221Z
UID:10006336-1772539200-1772543700@www.sheltermedportal.com
SUMMARY:Webinar - 3/3/26 - From Enforcement to Engagement: Community Support Services in Animal Control - NACA/Justice Clearinghouse
DESCRIPTION:When it comes to animal welfare\, the real game-changer isn’t more enforcement—it’s more engagement. While rules and regulations may compel compliance\, they can also lead to resistance and disconnect. An engagement-based approach shifts the focus to building relationships\, empowering individuals\, and fostering community collaboration—leading to stronger\, more sustainable outcomes. \nThrough real-world case studies and examples\, you’ll gain a practical roadmap for applying this approach to improve stray management and public health. Expect a candid look at both the benefits and the challenges—and strategies to make it work in your community. \nThis webinar has been certified by the National Animal Care & Control Association and is approved for 1 Continuing Education Unit. \nPresenter: Dr. Christina Avila \nWEBSITE LINK: https://www.justiceclearinghouse.com/webinar/shifting-the-paradigm-from-enforcement-to-engagement-providing-community-support-services-as-an-animal-control-agency/
URL:https://www.sheltermedportal.com/event/webinar-3-3-26-from-enforcement-to-engagement-community-support-services-in-animal-control-naca-justice-clearinghouse/
LOCATION:Virtual
CATEGORIES:Webinar
ATTACH;FMTTYPE=image/jpeg:https://www.sheltermedportal.com/wp-content/uploads/2026/01/From-Enforcement-to-engagement-NACA-1321095080.jpg
END:VEVENT
BEGIN:VEVENT
DTSTART;TZID=America/Los_Angeles:20260305T120000
DTEND;TZID=America/Los_Angeles:20260305T130000
DTSTAMP:20260421T130949
CREATED:20260302T195340Z
LAST-MODIFIED:20260302T195510Z
UID:10005290-1772712000-1772715600@www.sheltermedportal.com
SUMMARY:Online Event - 3/5/26 - Maddie's Monthly Foster Connection - Growing your Foster Program: Increasing Live Release Rate for At-Risk Animals - Maddie's Fund
DESCRIPTION:Fostering is a critical lifesaving pathway for most municipal shelters\, but too often at-risk populations are overlooked in favor of highly adoptable animals. This presentation will focus on two of the highest risk animal groups in your shelter and how to make them a focus of your foster program: dogs with extended lengths of stay and neonatal kittens. \nShort term fosters\, or “Foster Field Trips” as they’re known\, help dogs by giving them a psychological reset from the shelter with minimal effort from foster families. Foster Field Trips help you set up these high-risk dogs for success in two major ways – they help improve kennel presentation and overall behavior upon their return to the shelter as well as provide your team with valuable personality insights that matter to potential adopters. \nEmpowering your community to foster kittens before they even enter your shelter can not only increase your capacity for care\, but also set these kittens up for the best shot at a healthy life. For the kittens already in your shelter\, overcoming the barrier of “I’ve never fostered kittens before!” is often the first and only step you’ll need towards increasing your live release rate within this population. \nSpeaker: Ryan Miller\, Grants Manager\, The Animal Foundation \nAbout Maddie’s Monthly Foster Connection:\nJoin us on the first Thursday of every month to discuss successful foster innovations and programs\, collaborate with others in the field\, answer questions and talk through complex foster-related issues. \nWho should join: Foster managers\, coordinators\, volunteers and any staff who are interested in learning about what’s working in foster programs. \nYou only need to register once for all meetings: https://maddies.fund/MonthlyFosterRegistration \nCan’t attend live?  Register anyway and you will get a link to the recording within a day or two after each meeting. \nAll recordings and resources shared during the webcast will also be available in the Maddie’s Monthly Foster Connection group on Maddie’s Pet Forum https://maddies.fund/monthlyfosterconnectionMPF \nMaddie’s Fund does not share registration information. \nThe opinions expressed by webinar presenters are their own and do not necessarily represent those of Maddie’s Fund. \nWEBSITE LINK:  https://maddies.fund/MonthlyFosterRegistration
URL:https://www.sheltermedportal.com/event/online-event-first-thursdays-maddies-monthly-foster-connection-maddies-fund-8-12/
LOCATION:Virtual
CATEGORIES:Online Event
ATTACH;FMTTYPE=image/png:https://www.sheltermedportal.com/wp-content/uploads/2024/03/MaddiesMonthlyFosterConnection.png
END:VEVENT
BEGIN:VEVENT
DTSTART;TZID=America/Los_Angeles:20260305T130000
DTEND;TZID=America/Los_Angeles:20260305T140000
DTSTAMP:20260421T130949
CREATED:20260226T212127Z
LAST-MODIFIED:20260226T212140Z
UID:10006379-1772715600-1772719200@www.sheltermedportal.com
SUMMARY:Online Event – 3/5/26 – Live from the Ranch: How Behavior Works  – Karen Pryor Academy
DESCRIPTION:About How Behavior Works with Susan G. Friedman\, Ph.D. & Ken Ramirez\nHow does behavior really work\, and what makes lasting behavior change possible? Understanding the science of behavior change reveals how and why behaviors shift\, allowing us to apply evidence-based principles that create lasting\, meaningful\, and effective change. \nCan’t tune in live? No worries! You can access the recording immediately after the broadcast. \nWEBSITE LINK:  https://learn.clickertraining.com/live-from-the-ranch#next
URL:https://www.sheltermedportal.com/event/online-event-3-5-26-live-from-the-ranch-how-behavior-works-karen-pryor-academy/
LOCATION:Virtual
CATEGORIES:Online Event
ATTACH;FMTTYPE=image/jpeg:https://www.sheltermedportal.com/wp-content/uploads/2026/02/The-Ranch_Ken-Ramirez-1-e1772140859549.jpg
END:VEVENT
BEGIN:VEVENT
DTSTART;TZID=America/Los_Angeles:20260307T110000
DTEND;TZID=America/Los_Angeles:20260307T134500
DTSTAMP:20260421T130949
CREATED:20260209T225749Z
LAST-MODIFIED:20260213T210640Z
UID:10006367-1772881200-1772891100@www.sheltermedportal.com
SUMMARY:Online Course – 3/7/26 – Neighborhood Cats TNR Certification Workshop – Community Cats Central (small fee applies)
DESCRIPTION:Ready to make a difference for feral and stray cats in your community? Join our expert instructors to learn the best practices for Trap-Neuter-Return (TNR) and effective colony management. You’ll learn what TNR is\, why it works\, and how to address common challenges such as communicating with neighbors\, preparing for trapping\, conducting large-scale trapping operations\, feeding\, and providing winter shelter. \nIf you’re new to TNR\, you’ll gain the essential skills needed to kickstart your TNR journey\, while experienced trappers can refresh and sharpen their techniques. \nTake advantage of the interactive format\, extensive handouts\, and real-life video footage from actual projects. Attendees will receive a certificate of attendance and access to a dedicated Facebook group for ongoing networking with fellow TNR advocates. \nLed by experts from Neighborhood Cats\, this 2.75-hour session includes an 15-minute Q&A. Registration is just $10. \nThis course/webinar/series/conference has been approved for Continuing Educational Units by the National Animal Care & Control Association (NACA). National certificate holders can submit for credit consistent with the NACA CEU policy located https://nacatraining.org/continuing-education-recertification/ \nWEBSITE LINK: https://communitycatscentral.com/events/live-tnr-certification-workshop-march-2026/
URL:https://www.sheltermedportal.com/event/online-course-3-7-26-neighborhood-cats-tnr-certification-workshop-community-cats-podcast-small-fee-applies/
LOCATION:Virtual
CATEGORIES:Training,Webinar
ATTACH;FMTTYPE=image/png:https://www.sheltermedportal.com/wp-content/uploads/2026/02/TNRWorkshopCommunityCatsCentral.png
END:VEVENT
END:VCALENDAR