BEGIN:VCALENDAR
VERSION:2.0
PRODID:-//Shelter Learniverse - ECPv6.15.20//NONSGML v1.0//EN
CALSCALE:GREGORIAN
METHOD:PUBLISH
X-ORIGINAL-URL:https://www.sheltermedportal.com
X-WR-CALDESC:Events for Shelter Learniverse
REFRESH-INTERVAL;VALUE=DURATION:PT1H
X-Robots-Tag:noindex
X-PUBLISHED-TTL:PT1H
BEGIN:VTIMEZONE
TZID:America/Los_Angeles
BEGIN:DAYLIGHT
TZOFFSETFROM:-0800
TZOFFSETTO:-0700
TZNAME:PDT
DTSTART:20250309T100000
END:DAYLIGHT
BEGIN:STANDARD
TZOFFSETFROM:-0700
TZOFFSETTO:-0800
TZNAME:PST
DTSTART:20251102T090000
END:STANDARD
BEGIN:DAYLIGHT
TZOFFSETFROM:-0800
TZOFFSETTO:-0700
TZNAME:PDT
DTSTART:20260308T100000
END:DAYLIGHT
BEGIN:STANDARD
TZOFFSETFROM:-0700
TZOFFSETTO:-0800
TZNAME:PST
DTSTART:20261101T090000
END:STANDARD
BEGIN:DAYLIGHT
TZOFFSETFROM:-0800
TZOFFSETTO:-0700
TZNAME:PDT
DTSTART:20270314T100000
END:DAYLIGHT
BEGIN:STANDARD
TZOFFSETFROM:-0700
TZOFFSETTO:-0800
TZNAME:PST
DTSTART:20271107T090000
END:STANDARD
END:VTIMEZONE
BEGIN:VEVENT
DTSTART;TZID=America/Los_Angeles:20260330T110000
DTEND;TZID=America/Los_Angeles:20260330T120000
DTSTAMP:20260421T112716
CREATED:20251210T164800Z
LAST-MODIFIED:20260113T203044Z
UID:10003223-1774868400-1774872000@www.sheltermedportal.com
SUMMARY:Online Meeting - Mondays - Weekly Community Conversations #ThanksToMaddie - Maddie's Fund
DESCRIPTION:Maddie’s Fund hosts a weekly 50-minute Zoom call for animal well-being professionals. These calls are a collaborative space to share exciting new programs and research\, discuss uncomfortable topics\, connect with peers in the industry\, and more\, all while sharing a common goal of preserving the human-animal bond. \nWho Should Join?\nExecutive directors\, animal well-being leaders\, shelter workers\, pet support professionals\, volunteers\, rescue organizations and anyone who shares the common goal of preserving the human-animal bond. \nWin Ca$h for Attending!\nEach month\, Maddie’s Fund will be giving away up to $5\,000 in grants. You can enter to win each time you attend a call or watch on-demand during the month by completing the giveaway drawing entry forms shared in the chat during the calls. \nRegister Today\nJoin us each Monday at 11am PT/2pm ET to receive support and learn about innovative ideas other organizations across the country are seeing success with. If you registered prior to July 2025 or are new to these meetings\, please use this link to register:\nhttps://maddies.fund/CommunityConversationsRegistration2025 \nAll calls are recorded and uploaded to the Community Conversations page on Maddie’s Pet Forum https://forum.maddiesfund.org/communityconversations \nPlease note: All views expressed on these calls are not necessarily endorsed by Maddie’s Fund. \nWEBSITE LINK:  https://maddies.fund/CommunityConversationsRegistration2025
URL:https://www.sheltermedportal.com/event/online-meeting-mondays-weekly-community-conversations-thankstomaddie-maddies-fund-2-2-2-2-3-6-2-2-3-2-2-3-3/2026-03-30/
LOCATION:Virtual
CATEGORIES:Zoom Meeting
ATTACH;FMTTYPE=image/png:https://www.sheltermedportal.com/wp-content/uploads/2024/05/Weekly-Community-ConverastionsSquare_2.png
END:VEVENT
BEGIN:VEVENT
DTSTART;TZID=America/Los_Angeles:20260331T090000
DTEND;TZID=America/Los_Angeles:20260331T100000
DTSTAMP:20260421T112716
CREATED:20260323T220636Z
LAST-MODIFIED:20260323T220701Z
UID:10006431-1774947600-1774951200@www.sheltermedportal.com
SUMMARY:Webinar - 3/31/26 - More Than a Pet: Integrating the Human-Animal Bond into Ethical Social Work Practice - Center for Pet Family Well-Being
DESCRIPTION:Pets play a critical role in the lives\, safety\, and well-being of many social work clients. In practice settings\, such as housing\, child welfare\, aging services\, behavioral health\, and interpersonal violence\, client decisions and outcomes are frequently influenced by their relationships with their pets. When pets are not considered\, service plans may unintentionally create barriers to care\, safety\, and stability. \nThis Social Work Month webinar is designed to inform social workers about why pets must be recognized as part of the client system. Grounded in a One Health framework\, this session will examine how the human–animal bond influences client engagement\, risk\, and access to services\, and why pet-inclusive practice is essential for ethical\, effective social work. \nWEBSITE LINK:  https://tiny.utk.edu/March2026Webinar
URL:https://www.sheltermedportal.com/event/webinar-3-31-26-more-than-a-pet-integrating-the-human-animal-bond-into-ethical-social-work-practice-center-for-pet-family-well-being/
LOCATION:Virtual
CATEGORIES:Webinar
ATTACH;FMTTYPE=image/jpeg:https://www.sheltermedportal.com/wp-content/uploads/2026/03/IntegratingHABSocialWorkwebinar-e1774303575582.jpeg
END:VEVENT
BEGIN:VEVENT
DTSTART;TZID=America/Los_Angeles:20260402T093000
DTEND;TZID=America/Los_Angeles:20260402T110000
DTSTAMP:20260421T112716
CREATED:20260316T200801Z
LAST-MODIFIED:20260316T200801Z
UID:10006420-1775122200-1775127600@www.sheltermedportal.com
SUMMARY:Webinar - 4/2/26 - Shelter Medicine Refresher and Updates 2026: Maximizing Veterinary Care in the Shelters - CalAnimals
DESCRIPTION:Presenter: Bruce Wagman\, Attorney SFSPCA Shelter PALS Program \nSan Francisco SPCA’s Shelter PALS program will update and summarize the types of tasks that can be done by Registered Veterinary Technicians and Veterinary Assistants in shelters\, as well as those that are reserved to veterinarians\, and how the team members can coordinate and work together to maximize animal health and welfare for all shelter animals. \nWEBSITE LINK:  https://us02web.zoom.us/webinar/register/WN_dR_FqbvNSCqZhQEEpAuV3g
URL:https://www.sheltermedportal.com/event/webinar-4-2-26-shelter-medicine-refresher-and-updates-2026-maximizing-veterinary-care-in-the-shelters-calanimals/
LOCATION:Virtual
CATEGORIES:Webinar
ATTACH;FMTTYPE=image/jpeg:https://www.sheltermedportal.com/wp-content/uploads/2026/03/ShelterMedicineRefresher2026_CalAnimals-e1773691645929.jpg
END:VEVENT
BEGIN:VEVENT
DTSTART;TZID=America/Los_Angeles:20260402T120000
DTEND;TZID=America/Los_Angeles:20260402T130000
DTSTAMP:20260421T112716
CREATED:20260316T183841Z
LAST-MODIFIED:20260316T183842Z
UID:10005291-1775131200-1775134800@www.sheltermedportal.com
SUMMARY:Online Event - 4/2/26 - Maddie's Monthly Foster Connection: Creating a Foster-Centric Medical Clinic - Maddie's Fund
DESCRIPTION:In this discussion\, we will review how animal shelters can shift from a kennel-centric medical model to a foster-centric clinic that effectively supports animals living in foster homes. As more shelters place 50% or more of animals in foster care\, clinics must adapt their infrastructure\, staffing\, communication\, and workflows to serve both people and pets. The discussion emphasizes guiding principles such as prioritizing quality of life\, valuing foster caregivers as essential partners\, transparency in decision-making\, and treating foster care as a core organizational function. \nGuest Speaker:\nJordana Moerbe\, Director of Lifesaving Partnerships and Medical Care at Austin Pets Alive! \nAbout Maddie’s Monthly Foster Connection:\nJoin us on the first Thursday of every month to discuss successful foster innovations and programs\, collaborate with others in the field\, answer questions and talk through complex foster-related issues. \nWho should join: Foster managers\, coordinators\, volunteers and any staff who are interested in learning about what’s working in foster programs. \nYou only need to register once for all meetings: https://maddies.fund/MonthlyFosterRegistration \nCan’t attend live?  Register anyway and you will get a link to the recording within a day or two after each meeting. \nAll recordings and resources shared during the webcast will also be available in the Maddie’s Monthly Foster Connection group on Maddie’s Pet Forum https://maddies.fund/monthlyfosterconnectionMPF \nMaddie’s Fund does not share registration information. \nThe opinions expressed by webinar presenters are their own and do not necessarily represent those of Maddie’s Fund. \nWEBSITE LINK:  https://maddies.fund/MonthlyFosterRegistration
URL:https://www.sheltermedportal.com/event/online-event-first-thursdays-maddies-monthly-foster-connection-maddies-fund-8-13/
LOCATION:Virtual
CATEGORIES:Online Event
ATTACH;FMTTYPE=image/png:https://www.sheltermedportal.com/wp-content/uploads/2024/03/MaddiesMonthlyFosterConnection.png
END:VEVENT
BEGIN:VEVENT
DTSTART;TZID=America/Los_Angeles:20260402T150000
DTEND;TZID=America/Los_Angeles:20260402T160000
DTSTAMP:20260421T112716
CREATED:20260323T231753Z
LAST-MODIFIED:20260323T231753Z
UID:10006433-1775142000-1775145600@www.sheltermedportal.com
SUMMARY:Webinar - 4/2/26 - Dealing with Over-the-Top Behavior: A Practical Tool-Kit - FDSA (fee applies)
DESCRIPTION:Over-excited\, over-the-top\, out-of-control… Does this sound like a dog you know? \nIf so\, they probably have over-arousal issues! Over-arousal can be a factor in many different behavior issues in dogs*\, from hyperactivity to aggression. Teaching animals how to handle arousal can change their lives – and ours – for the better. \n*NOTE: The concepts in this webinar apply to species other than dogs\, too! \nIn this webinar\, we will explore a range of tools for helping the over-aroused animal in your life. Topics covered include arousal and how it affects behavior\, determining which “problem” behaviors relate to over-arousal (and which probably don’t)\, training games you can use to help the animals in your life learn to manage their arousal levels\, and more. \nWhether you want to teach your dog better manners around guests or are desperately trying to avoid a repeat of that bite to the mailman\, this webinar is for you! \nPresenter: Irith Bloom \nWEBSITE LINK:  https://www.fenzidogsportsacademy.com/index.php/self-study/webinars
URL:https://www.sheltermedportal.com/event/webinar-4-2-26-dealing-with-over-the-top-behavior-a-practical-tool-kit-fdsa-fee-applies/
LOCATION:Virtual
CATEGORIES:Webinar
ATTACH;FMTTYPE=image/jpeg:https://www.sheltermedportal.com/wp-content/uploads/2026/03/BlackDog.jpg
END:VEVENT
BEGIN:VEVENT
DTSTART;TZID=America/Los_Angeles:20260403T110000
DTEND;TZID=America/Los_Angeles:20260403T120000
DTSTAMP:20260421T112717
CREATED:20260323T195911Z
LAST-MODIFIED:20260323T195911Z
UID:10006421-1775214000-1775217600@www.sheltermedportal.com
SUMMARY:Online Event - First Fridays - First Fridays: AI for Animal Welfare Professionals Collaboration Calls - Outcomes for Pets Consulting
DESCRIPTION:Please join us every first Friday of the month to discuss AI use in animal shelters\, share new AI developments\, and join your peers in discussing creative solutions to common problems. \nMeetings will occur the first Friday of each month at 11 am PST / 2 pm EST. \nRegistering for this meeting will register you for the complete series. \nREGISTER NOW: https://zoom.us/webinar/register/WN_tzBOM-0PQ6KEJp3lyAJ0fA#/registration
URL:https://www.sheltermedportal.com/event/online-event-first-fridays-first-fridays-ai-for-animal-welfare-professionals-collaboration-calls-outcomes-for-pets-consulting/2026-04-03/
LOCATION:Virtual
CATEGORIES:Online Event,Webinar
ATTACH;FMTTYPE=image/jpeg:https://www.sheltermedportal.com/wp-content/uploads/2026/03/OutcomesConsultingFirstFridayAI-e1774295918359.jpg
END:VEVENT
BEGIN:VEVENT
DTSTART;TZID=America/Los_Angeles:20260404T110000
DTEND;TZID=America/Los_Angeles:20260404T134500
DTSTAMP:20260421T112717
CREATED:20260302T203927Z
LAST-MODIFIED:20260302T203927Z
UID:10006393-1775300400-1775310300@www.sheltermedportal.com
SUMMARY:Online Course – 4/4/26 – Neighborhood Cats TNR Certification Workshop – Community Cats Central (small fee applies)
DESCRIPTION:Ready to make a difference for feral and stray cats in your community? Join our expert instructors to learn the best practices for Trap-Neuter-Return (TNR) and effective colony management. You’ll learn what TNR is\, why it works\, and how to address common challenges such as communicating with neighbors\, preparing for trapping\, conducting large-scale trapping operations\, feeding\, and providing winter shelter. \nIf you’re new to TNR\, you’ll gain the essential skills needed to kickstart your TNR journey\, while experienced trappers can refresh and sharpen their techniques. \nTake advantage of the interactive format\, extensive handouts\, and real-life video footage from actual projects. Attendees will receive a certificate of attendance and access to a dedicated Facebook group for ongoing networking with fellow TNR advocates. \nLed by experts from Neighborhood Cats\, this 2.75-hour session includes an 15-minute Q&A. Registration is just $10. \nThis course/webinar/series/conference has been approved for Continuing Educational Units by the National Animal Care & Control Association (NACA). National certificate holders can submit for credit consistent with the NACA CEU policy located https://nacatraining.org/continuing-education-recertification/ \nWEBSITE LINK: https://communitycatscentral.com/events/live-tnr-certification-workshop-april-2026/
URL:https://www.sheltermedportal.com/event/online-course-4-4-26-neighborhood-cats-tnr-certification-workshop-community-cats-central-small-fee-applies/
LOCATION:Virtual
CATEGORIES:Webinar
ATTACH;FMTTYPE=image/png:https://www.sheltermedportal.com/wp-content/uploads/2026/02/TNRWorkshopCommunityCatsCentral.png
END:VEVENT
END:VCALENDAR