BEGIN:VCALENDAR
VERSION:2.0
PRODID:-//Shelter Learniverse - ECPv6.15.20//NONSGML v1.0//EN
CALSCALE:GREGORIAN
METHOD:PUBLISH
X-WR-CALNAME:Shelter Learniverse
X-ORIGINAL-URL:https://www.sheltermedportal.com
X-WR-CALDESC:Events for Shelter Learniverse
REFRESH-INTERVAL;VALUE=DURATION:PT1H
X-Robots-Tag:noindex
X-PUBLISHED-TTL:PT1H
BEGIN:VTIMEZONE
TZID:America/Los_Angeles
BEGIN:DAYLIGHT
TZOFFSETFROM:-0800
TZOFFSETTO:-0700
TZNAME:PDT
DTSTART:20250309T100000
END:DAYLIGHT
BEGIN:STANDARD
TZOFFSETFROM:-0700
TZOFFSETTO:-0800
TZNAME:PST
DTSTART:20251102T090000
END:STANDARD
BEGIN:DAYLIGHT
TZOFFSETFROM:-0800
TZOFFSETTO:-0700
TZNAME:PDT
DTSTART:20260308T100000
END:DAYLIGHT
BEGIN:STANDARD
TZOFFSETFROM:-0700
TZOFFSETTO:-0800
TZNAME:PST
DTSTART:20261101T090000
END:STANDARD
BEGIN:DAYLIGHT
TZOFFSETFROM:-0800
TZOFFSETTO:-0700
TZNAME:PDT
DTSTART:20270314T100000
END:DAYLIGHT
BEGIN:STANDARD
TZOFFSETFROM:-0700
TZOFFSETTO:-0800
TZNAME:PST
DTSTART:20271107T090000
END:STANDARD
END:VTIMEZONE
BEGIN:VEVENT
DTSTART;TZID=America/Los_Angeles:20260426T050000
DTEND;TZID=America/Los_Angeles:20260426T141500
DTSTAMP:20260422T020207
CREATED:20260316T195712Z
LAST-MODIFIED:20260401T180457Z
UID:10006419-1777179600-1777212900@www.sheltermedportal.com
SUMMARY:Hybrid Conference - 4/24/26 to 4/26/26 - IAABC Foundation Animal Behavior Conference 2026 - IAABC (fee applies)
DESCRIPTION:Join animal welfare professionals at the 2026 IAABC Foundation Animal Behavior Conference. This conference features a dedicated Shelter Track on Saturday\, April 25\, with sessions on behavior assessment\, welfare optimization\, and enrichment strategies. Explore 40+ evidence-based sessions across species. \nContact: questions@iaabcfoundation.org \nWEBSITE LINK: http://iaabcfoundation.org/animal-behavior-conference/
URL:https://www.sheltermedportal.com/event/conference-4-24-26-to-4-26-26-iaabc-foundation-animal-behavior-conference-2026-iaabc-fee-applies/2026-04-26/
LOCATION:Virtual
CATEGORIES:Webinar
ATTACH;FMTTYPE=image/png:https://www.sheltermedportal.com/wp-content/uploads/2026/03/IAABC2026Conference-e1773690996981.png
END:VEVENT
BEGIN:VEVENT
DTSTART;TZID=America/Los_Angeles:20260427T100000
DTEND;TZID=America/Los_Angeles:20260427T110000
DTSTAMP:20260422T020207
CREATED:20260309T185713Z
LAST-MODIFIED:20260309T185713Z
UID:10006406-1777284000-1777287600@www.sheltermedportal.com
SUMMARY:Webinar - 4/27/26 - Lost & Found: They Don’t Have to Be Shelter Bound! - CalAnimals
DESCRIPTION:You won’t want to miss this important webinar to learn about proactive strategies that helped Washoe County Regional Animal Services achieve Return to Home RTH success of 63% of dogs and 8% of cats. \nPresenter: Shyanne Schull\, Director\, Washoe County Regional Animal Services \nWEBSITE LINK:  https://us02web.zoom.us/webinar/register/WN_YrXEFYRUSCGxBs8paItKrQ#/
URL:https://www.sheltermedportal.com/event/webinar-4-27-26-lost-found-they-dont-have-to-be-shelter-bound-calanimals/
LOCATION:Virtual
CATEGORIES:Webinar
ATTACH;FMTTYPE=image/jpeg:https://www.sheltermedportal.com/wp-content/uploads/2026/03/CalAnimalsLostAndFoundWebinar-April2026-e1773082612786.jpg
END:VEVENT
BEGIN:VEVENT
DTSTART;TZID=America/Los_Angeles:20260427T110000
DTEND;TZID=America/Los_Angeles:20260427T120000
DTSTAMP:20260422T020207
CREATED:20260413T201448Z
LAST-MODIFIED:20260413T201448Z
UID:10003227-1777287600-1777291200@www.sheltermedportal.com
SUMMARY:Online Meeting - 4/27/26 - Weekly Community Conversations #ThanksToMaddie: Beyond Assumptions - Maddie's Fund
DESCRIPTION:Maddie’s Fund hosts a weekly 50-minute Zoom call for animal well-being professionals. These calls are a collaborative space to share exciting new programs and research\, discuss uncomfortable topics\, connect with peers in the industry\, and more\, all while sharing a common goal of preserving the human-animal bond. \nWho Should Join?\nExecutive directors\, animal well-being leaders\, shelter workers\, pet support professionals\, volunteers\, rescue organizations and anyone who shares the common goal of preserving the human-animal bond. \nWin Ca$h for Attending!\nEach month\, Maddie’s Fund will be giving away up to $5\,000 in grants. You can enter to win each time you attend a call or watch on-demand during the month by completing the giveaway drawing entry forms shared in the chat during the calls. \nRegister Today\nJoin us each Monday at 11am PT/2pm ET to receive support and learn about innovative ideas other organizations across the country are seeing success with. If you registered prior to July 2025 or are new to these meetings\, please use this link to register:\nhttps://maddies.fund/CommunityConversationsRegistration2025 \nAll calls are recorded and uploaded to the Community Conversations page on Maddie’s Pet Forum https://forum.maddiesfund.org/communityconversations \nPlease note: All views expressed on these calls are not necessarily endorsed by Maddie’s Fund. \nWEBSITE LINK:  https://maddies.fund/CommunityConversationsRegistration2025
URL:https://www.sheltermedportal.com/event/online-meeting-mondays-weekly-community-conversations-thankstomaddie-maddies-fund-2-2-2-2-3-6-2-2-3-2-2-3-3-5/
LOCATION:Virtual
CATEGORIES:Zoom Meeting
ATTACH;FMTTYPE=image/png:https://www.sheltermedportal.com/wp-content/uploads/2024/05/Weekly-Community-ConverastionsSquare_2.png
END:VEVENT
BEGIN:VEVENT
DTSTART;TZID=America/Los_Angeles:20260429T120000
DTEND;TZID=America/Los_Angeles:20260429T140000
DTSTAMP:20260422T020207
CREATED:20260421T194939Z
LAST-MODIFIED:20260421T194939Z
UID:10006448-1777464000-1777471200@www.sheltermedportal.com
SUMMARY:Webinar - 4/29/26 - Foster Spotlight: Lessons from Award-Winning Programs - Maddie's Fund
DESCRIPTION:Join us for a dynamic look at some of the winning strategies from the 2025 Foster 50 Challenge. Through a series of lightning-fast talks\, you’ll learn how grant funding helped spark new ideas\, expanded foster programs\, and created measurable change for communities and animals in need. In this 2-hour webcast\, you’ll walk away with practical strategies and inspiration that show what’s possible when shelters invest in fostering. There will be time for your questions and answers\, too. \nWho should attend? Everyone is welcome! This webinar is perfect for those interested or involved in existing foster care programs\, foster coordinators\, marketing\, leadership and operations enthusiasts. It will be especially helpful to those registered for the 2026 Foster 50 grant challenge (deadline to register is April 30). \nParticipants will be eligible for up to 2 Certified Animal Welfare Administrator (CAWA) and National Animal Care & Control Association (NACA) continuing education credit hours. \nCome make new friends and help make the world of foster care accessible and enjoyable to all involved! \nTime: 12noon Pacific – 2pm Pacific \nRegister: https://maddies.fund/Foster50Spotlights
URL:https://www.sheltermedportal.com/event/webinar-4-29-26-foster-spotlight-lessons-from-award-winning-programs-maddies-fund/
LOCATION:Virtual
CATEGORIES:Webinar
ATTACH;FMTTYPE=image/jpeg:https://www.sheltermedportal.com/wp-content/uploads/2026/04/Foster50LogoSMP.jpg
END:VEVENT
BEGIN:VEVENT
DTSTART;TZID=America/Los_Angeles:20260429T170000
DTEND;TZID=America/Los_Angeles:20260429T174500
DTSTAMP:20260422T020207
CREATED:20260406T232041Z
LAST-MODIFIED:20260406T232235Z
UID:10006439-1777482000-1777484700@www.sheltermedportal.com
SUMMARY:Online Event - Monthly - Journey You Own Meditation Gathering - JYO
DESCRIPTION:Create a shared\, supportive space to explore grounding practices. \nThe guided meditations happen every month and typically run 30-45 minutes. All are welcome to these very low-key sessions\, with videos on or off\, whatever feels most comfortable to you. No speaking is necessary unless you’d like to share at the end of the session. \nAttendees register once and can attend any of the monthly meditation dates. Don’t forget to add the dates to your calendar to ensure you don’t miss out on any sessions. \nAbout the Host \nJyothi Robertson is a student of meditation practice for 40+ years and trauma-sensitive grounding practices formally for the past three years. She was raised by parents who practice meditation and lead spiritual teachings for members of their Indian community. She began pursuing her own formal exploration of spirituality as an anthropology major at Princeton University and conducted fieldwork for her thesis while living at an ashram (spiritual center) in India in 1996. As a veterinarian\, she is interested in highlighting the spiritual connection between all living beings. \nJyothi has completed certifications in trauma-sensitive mindfulness\, advanced trauma-sensitive meditation\, deep listening\, DEI\, and since 2019\, has been receiving training in Buddhist meditation practices and philosophy. As a student learning meditation\, she is interested in exploring these practices with others in community. \nWEBSITE LINK:  https://jyo.world/meditation-gathering/
URL:https://www.sheltermedportal.com/event/online-event-monthly-journey-you-own-meditation-gathering-jyo-2-2-2/2026-04-29/
LOCATION:Virtual
CATEGORIES:Online Event
ATTACH;FMTTYPE=image/jpeg:https://www.sheltermedportal.com/wp-content/uploads/2022/05/dog-with-eyes-closed_elisa-calvet-b-unsplash.jpg
END:VEVENT
BEGIN:VEVENT
DTSTART;TZID=America/Los_Angeles:20260430T110000
DTEND;TZID=America/Los_Angeles:20260430T120000
DTSTAMP:20260422T020207
CREATED:20260413T201226Z
LAST-MODIFIED:20260413T201226Z
UID:10006445-1777546800-1777550400@www.sheltermedportal.com
SUMMARY:Webinar - 4/30/26 - One Health\, Two Patients: The Human–Animal Bond in Homeless Health - Center for Pet Family Well-being
DESCRIPTION:When it comes to healthcare for pet owners experiencing homelessness\, the One Health clinical care model is proving to both improve access to veterinary care as well as human healthcare. Established in Seattle in 2018 in a collaboration between the University of Washington’s Center for One Health Research and Washington State University’s College of Veterinary Medicine\, the One Health Clinic integrates veterinary and human primary care to benefit both members of the family. \nIn this 1-hour webinar we’ll examine the success of integrated human and veterinary care on healthcare\, homeless services\, and housing\, and explore how this model of care can be modified to meet the needs of your community. \nWEBSITE LINK:  https://us02web.zoom.us/meeting/register/tQL_ZbiFR666oNuixiwseQ#/registration
URL:https://www.sheltermedportal.com/event/webinar-4-30-26-one-health-two-patients-the-human-animal-bond-in-homeless-health-center-for-pet-family-well-being/
LOCATION:Virtual
CATEGORIES:Webinar
ATTACH;FMTTYPE=image/png:https://www.sheltermedportal.com/wp-content/uploads/2026/04/OneHealthTwoPatientsWebinar_CPFW-e1776111122665.png
END:VEVENT
BEGIN:VEVENT
DTSTART;TZID=America/Los_Angeles:20260501T110000
DTEND;TZID=America/Los_Angeles:20260501T120000
DTSTAMP:20260422T020207
CREATED:20260323T195911Z
LAST-MODIFIED:20260323T195911Z
UID:10006422-1777633200-1777636800@www.sheltermedportal.com
SUMMARY:Online Event - First Fridays - First Fridays: AI for Animal Welfare Professionals Collaboration Calls - Outcomes for Pets Consulting
DESCRIPTION:Please join us every first Friday of the month to discuss AI use in animal shelters\, share new AI developments\, and join your peers in discussing creative solutions to common problems. \nMeetings will occur the first Friday of each month at 11 am PST / 2 pm EST. \nRegistering for this meeting will register you for the complete series. \nREGISTER NOW: https://zoom.us/webinar/register/WN_tzBOM-0PQ6KEJp3lyAJ0fA#/registration
URL:https://www.sheltermedportal.com/event/online-event-first-fridays-first-fridays-ai-for-animal-welfare-professionals-collaboration-calls-outcomes-for-pets-consulting/2026-05-01/
LOCATION:Virtual
CATEGORIES:Online Event,Webinar
ATTACH;FMTTYPE=image/jpeg:https://www.sheltermedportal.com/wp-content/uploads/2026/03/OutcomesConsultingFirstFridayAI-e1774295918359.jpg
END:VEVENT
END:VCALENDAR