BEGIN:VCALENDAR
VERSION:2.0
PRODID:-//Shelter Learniverse - ECPv6.15.20//NONSGML v1.0//EN
CALSCALE:GREGORIAN
METHOD:PUBLISH
X-WR-CALNAME:Shelter Learniverse
X-ORIGINAL-URL:https://www.sheltermedportal.com
X-WR-CALDESC:Events for Shelter Learniverse
REFRESH-INTERVAL;VALUE=DURATION:PT1H
X-Robots-Tag:noindex
X-PUBLISHED-TTL:PT1H
BEGIN:VTIMEZONE
TZID:America/Los_Angeles
BEGIN:DAYLIGHT
TZOFFSETFROM:-0800
TZOFFSETTO:-0700
TZNAME:PDT
DTSTART:20250309T100000
END:DAYLIGHT
BEGIN:STANDARD
TZOFFSETFROM:-0700
TZOFFSETTO:-0800
TZNAME:PST
DTSTART:20251102T090000
END:STANDARD
BEGIN:DAYLIGHT
TZOFFSETFROM:-0800
TZOFFSETTO:-0700
TZNAME:PDT
DTSTART:20260308T100000
END:DAYLIGHT
BEGIN:STANDARD
TZOFFSETFROM:-0700
TZOFFSETTO:-0800
TZNAME:PST
DTSTART:20261101T090000
END:STANDARD
BEGIN:DAYLIGHT
TZOFFSETFROM:-0800
TZOFFSETTO:-0700
TZNAME:PDT
DTSTART:20270314T100000
END:DAYLIGHT
BEGIN:STANDARD
TZOFFSETFROM:-0700
TZOFFSETTO:-0800
TZNAME:PST
DTSTART:20271107T090000
END:STANDARD
END:VTIMEZONE
BEGIN:VEVENT
DTSTART;TZID=America/Los_Angeles:20260511T050000
DTEND;TZID=America/Los_Angeles:20260511T140000
DTSTAMP:20260420T182248
CREATED:20260323T202530Z
LAST-MODIFIED:20260323T202612Z
UID:10006427-1778475600-1778508000@www.sheltermedportal.com
SUMMARY:Conference - 5/11/26 to 5/13/26 - The Gathering 2026 - CARE (fee applies)
DESCRIPTION:The Gathering is CARE’s annual multi-day conference bringing together community members\, practitioners\, researchers\, advocates\, and organizers working at the intersection of Human and Animal Well-being. \nAcross three days\, The Gathering creates space to examine how the Animal Welfare and Animal Protection fields have caused harm through exclusion\, bias\, and inequitable practices — and to collectively build pathways toward reform that honor both people and animals. \nGrounded in CARE’s core pillars — Intention\, Mobilization\, Peace\, Education\, Acknowledgment\, Compassion\, and Heart — this conference centers BIPOC leadership\, lived experience\, and community-based knowledge. Sessions move beyond theory to focus on practical tools\, shared learning\, and relationship-building that participants can bring back to their communities and institutions. \nThe Gathering is designed for those who understand that animal welfare cannot be separated from human well-being\, environmental justice\, and systemic equity. Programming will reflect CARE’s four divisions: \n\nResearch & Development\nNarrative & Truth Telling\nCommunity Animal CARE\nEnvironmental Justice & Policy\n\nThis is not a traditional conference. It is a space for honest dialogue\, accountability\, healing\, and action — built with accessibility\, care\, and community at the center. \nWEBSITE LINK: https://secure.qgiv.com/for/companionsandanimalsforreformandequity/event/thegathering4/
URL:https://www.sheltermedportal.com/event/conference-5-11-26-to-5-13-26-the-gathering-2026-care-fee-applies/2026-05-11/
LOCATION:The Study at University City\, 20 S. 33rd Street\, Philadelphia\, PA\, 19104\, United States
CATEGORIES:Conference
ATTACH;FMTTYPE=image/png:https://www.sheltermedportal.com/wp-content/uploads/2026/03/a_lesson_in_love_CARE2026.png
END:VEVENT
BEGIN:VEVENT
DTSTART;TZID=America/Los_Angeles:20260511T110000
DTEND;TZID=America/Los_Angeles:20260511T120000
DTSTAMP:20260420T182248
CREATED:20251210T164800Z
LAST-MODIFIED:20260113T203044Z
UID:10003229-1778497200-1778500800@www.sheltermedportal.com
SUMMARY:Online Meeting - Mondays - Weekly Community Conversations #ThanksToMaddie - Maddie's Fund
DESCRIPTION:Maddie’s Fund hosts a weekly 50-minute Zoom call for animal well-being professionals. These calls are a collaborative space to share exciting new programs and research\, discuss uncomfortable topics\, connect with peers in the industry\, and more\, all while sharing a common goal of preserving the human-animal bond. \nWho Should Join?\nExecutive directors\, animal well-being leaders\, shelter workers\, pet support professionals\, volunteers\, rescue organizations and anyone who shares the common goal of preserving the human-animal bond. \nWin Ca$h for Attending!\nEach month\, Maddie’s Fund will be giving away up to $5\,000 in grants. You can enter to win each time you attend a call or watch on-demand during the month by completing the giveaway drawing entry forms shared in the chat during the calls. \nRegister Today\nJoin us each Monday at 11am PT/2pm ET to receive support and learn about innovative ideas other organizations across the country are seeing success with. If you registered prior to July 2025 or are new to these meetings\, please use this link to register:\nhttps://maddies.fund/CommunityConversationsRegistration2025 \nAll calls are recorded and uploaded to the Community Conversations page on Maddie’s Pet Forum https://forum.maddiesfund.org/communityconversations \nPlease note: All views expressed on these calls are not necessarily endorsed by Maddie’s Fund. \nWEBSITE LINK:  https://maddies.fund/CommunityConversationsRegistration2025
URL:https://www.sheltermedportal.com/event/online-meeting-mondays-weekly-community-conversations-thankstomaddie-maddies-fund-2-2-2-2-3-6-2-2-3-2-2-3-3/2026-05-11/
LOCATION:Virtual
CATEGORIES:Zoom Meeting
ATTACH;FMTTYPE=image/png:https://www.sheltermedportal.com/wp-content/uploads/2024/05/Weekly-Community-ConverastionsSquare_2.png
END:VEVENT
BEGIN:VEVENT
DTSTART;TZID=America/Los_Angeles:20260512T050000
DTEND;TZID=America/Los_Angeles:20260512T140000
DTSTAMP:20260420T182248
CREATED:20260323T202530Z
LAST-MODIFIED:20260323T202612Z
UID:10006428-1778562000-1778594400@www.sheltermedportal.com
SUMMARY:Conference - 5/11/26 to 5/13/26 - The Gathering 2026 - CARE (fee applies)
DESCRIPTION:The Gathering is CARE’s annual multi-day conference bringing together community members\, practitioners\, researchers\, advocates\, and organizers working at the intersection of Human and Animal Well-being. \nAcross three days\, The Gathering creates space to examine how the Animal Welfare and Animal Protection fields have caused harm through exclusion\, bias\, and inequitable practices — and to collectively build pathways toward reform that honor both people and animals. \nGrounded in CARE’s core pillars — Intention\, Mobilization\, Peace\, Education\, Acknowledgment\, Compassion\, and Heart — this conference centers BIPOC leadership\, lived experience\, and community-based knowledge. Sessions move beyond theory to focus on practical tools\, shared learning\, and relationship-building that participants can bring back to their communities and institutions. \nThe Gathering is designed for those who understand that animal welfare cannot be separated from human well-being\, environmental justice\, and systemic equity. Programming will reflect CARE’s four divisions: \n\nResearch & Development\nNarrative & Truth Telling\nCommunity Animal CARE\nEnvironmental Justice & Policy\n\nThis is not a traditional conference. It is a space for honest dialogue\, accountability\, healing\, and action — built with accessibility\, care\, and community at the center. \nWEBSITE LINK: https://secure.qgiv.com/for/companionsandanimalsforreformandequity/event/thegathering4/
URL:https://www.sheltermedportal.com/event/conference-5-11-26-to-5-13-26-the-gathering-2026-care-fee-applies/2026-05-12/
LOCATION:The Study at University City\, 20 S. 33rd Street\, Philadelphia\, PA\, 19104\, United States
CATEGORIES:Conference
ATTACH;FMTTYPE=image/png:https://www.sheltermedportal.com/wp-content/uploads/2026/03/a_lesson_in_love_CARE2026.png
END:VEVENT
BEGIN:VEVENT
DTSTART;TZID=America/Los_Angeles:20260513T050000
DTEND;TZID=America/Los_Angeles:20260513T140000
DTSTAMP:20260420T182248
CREATED:20260323T202530Z
LAST-MODIFIED:20260323T202612Z
UID:10006429-1778648400-1778680800@www.sheltermedportal.com
SUMMARY:Conference - 5/11/26 to 5/13/26 - The Gathering 2026 - CARE (fee applies)
DESCRIPTION:The Gathering is CARE’s annual multi-day conference bringing together community members\, practitioners\, researchers\, advocates\, and organizers working at the intersection of Human and Animal Well-being. \nAcross three days\, The Gathering creates space to examine how the Animal Welfare and Animal Protection fields have caused harm through exclusion\, bias\, and inequitable practices — and to collectively build pathways toward reform that honor both people and animals. \nGrounded in CARE’s core pillars — Intention\, Mobilization\, Peace\, Education\, Acknowledgment\, Compassion\, and Heart — this conference centers BIPOC leadership\, lived experience\, and community-based knowledge. Sessions move beyond theory to focus on practical tools\, shared learning\, and relationship-building that participants can bring back to their communities and institutions. \nThe Gathering is designed for those who understand that animal welfare cannot be separated from human well-being\, environmental justice\, and systemic equity. Programming will reflect CARE’s four divisions: \n\nResearch & Development\nNarrative & Truth Telling\nCommunity Animal CARE\nEnvironmental Justice & Policy\n\nThis is not a traditional conference. It is a space for honest dialogue\, accountability\, healing\, and action — built with accessibility\, care\, and community at the center. \nWEBSITE LINK: https://secure.qgiv.com/for/companionsandanimalsforreformandequity/event/thegathering4/
URL:https://www.sheltermedportal.com/event/conference-5-11-26-to-5-13-26-the-gathering-2026-care-fee-applies/2026-05-13/
LOCATION:The Study at University City\, 20 S. 33rd Street\, Philadelphia\, PA\, 19104\, United States
CATEGORIES:Conference
ATTACH;FMTTYPE=image/png:https://www.sheltermedportal.com/wp-content/uploads/2026/03/a_lesson_in_love_CARE2026.png
END:VEVENT
BEGIN:VEVENT
DTSTART;TZID=America/Los_Angeles:20260513T170000
DTEND;TZID=America/Los_Angeles:20260513T174500
DTSTAMP:20260420T182248
CREATED:20260406T232041Z
LAST-MODIFIED:20260406T232235Z
UID:10005629-1778691600-1778694300@www.sheltermedportal.com
SUMMARY:Online Event - Monthly - Journey You Own Meditation Gathering - JYO
DESCRIPTION:Create a shared\, supportive space to explore grounding practices. \nThe guided meditations happen every month and typically run 30-45 minutes. All are welcome to these very low-key sessions\, with videos on or off\, whatever feels most comfortable to you. No speaking is necessary unless you’d like to share at the end of the session. \nAttendees register once and can attend any of the monthly meditation dates. Don’t forget to add the dates to your calendar to ensure you don’t miss out on any sessions. \nAbout the Host \nJyothi Robertson is a student of meditation practice for 40+ years and trauma-sensitive grounding practices formally for the past three years. She was raised by parents who practice meditation and lead spiritual teachings for members of their Indian community. She began pursuing her own formal exploration of spirituality as an anthropology major at Princeton University and conducted fieldwork for her thesis while living at an ashram (spiritual center) in India in 1996. As a veterinarian\, she is interested in highlighting the spiritual connection between all living beings. \nJyothi has completed certifications in trauma-sensitive mindfulness\, advanced trauma-sensitive meditation\, deep listening\, DEI\, and since 2019\, has been receiving training in Buddhist meditation practices and philosophy. As a student learning meditation\, she is interested in exploring these practices with others in community. \nWEBSITE LINK:  https://jyo.world/meditation-gathering/
URL:https://www.sheltermedportal.com/event/online-event-monthly-journey-you-own-meditation-gathering-jyo-2-2-2/2026-05-13/
LOCATION:Virtual
CATEGORIES:Online Event
ATTACH;FMTTYPE=image/jpeg:https://www.sheltermedportal.com/wp-content/uploads/2022/05/dog-with-eyes-closed_elisa-calvet-b-unsplash.jpg
END:VEVENT
END:VCALENDAR