BEGIN:VCALENDAR
VERSION:2.0
PRODID:-//Shelter Learniverse - ECPv6.15.20//NONSGML v1.0//EN
CALSCALE:GREGORIAN
METHOD:PUBLISH
X-WR-CALNAME:Shelter Learniverse
X-ORIGINAL-URL:https://www.sheltermedportal.com
X-WR-CALDESC:Events for Shelter Learniverse
REFRESH-INTERVAL;VALUE=DURATION:PT1H
X-Robots-Tag:noindex
X-PUBLISHED-TTL:PT1H
BEGIN:VTIMEZONE
TZID:America/Los_Angeles
BEGIN:DAYLIGHT
TZOFFSETFROM:-0800
TZOFFSETTO:-0700
TZNAME:PDT
DTSTART:20250309T100000
END:DAYLIGHT
BEGIN:STANDARD
TZOFFSETFROM:-0700
TZOFFSETTO:-0800
TZNAME:PST
DTSTART:20251102T090000
END:STANDARD
BEGIN:DAYLIGHT
TZOFFSETFROM:-0800
TZOFFSETTO:-0700
TZNAME:PDT
DTSTART:20260308T100000
END:DAYLIGHT
BEGIN:STANDARD
TZOFFSETFROM:-0700
TZOFFSETTO:-0800
TZNAME:PST
DTSTART:20261101T090000
END:STANDARD
BEGIN:DAYLIGHT
TZOFFSETFROM:-0800
TZOFFSETTO:-0700
TZNAME:PDT
DTSTART:20270314T100000
END:DAYLIGHT
BEGIN:STANDARD
TZOFFSETFROM:-0700
TZOFFSETTO:-0800
TZNAME:PST
DTSTART:20271107T090000
END:STANDARD
END:VTIMEZONE
BEGIN:VEVENT
DTSTART;TZID=America/Los_Angeles:20260518T110000
DTEND;TZID=America/Los_Angeles:20260518T120000
DTSTAMP:20260420T182300
CREATED:20251210T164800Z
LAST-MODIFIED:20260113T203044Z
UID:10003230-1779102000-1779105600@www.sheltermedportal.com
SUMMARY:Online Meeting - Mondays - Weekly Community Conversations #ThanksToMaddie - Maddie's Fund
DESCRIPTION:Maddie’s Fund hosts a weekly 50-minute Zoom call for animal well-being professionals. These calls are a collaborative space to share exciting new programs and research\, discuss uncomfortable topics\, connect with peers in the industry\, and more\, all while sharing a common goal of preserving the human-animal bond. \nWho Should Join?\nExecutive directors\, animal well-being leaders\, shelter workers\, pet support professionals\, volunteers\, rescue organizations and anyone who shares the common goal of preserving the human-animal bond. \nWin Ca$h for Attending!\nEach month\, Maddie’s Fund will be giving away up to $5\,000 in grants. You can enter to win each time you attend a call or watch on-demand during the month by completing the giveaway drawing entry forms shared in the chat during the calls. \nRegister Today\nJoin us each Monday at 11am PT/2pm ET to receive support and learn about innovative ideas other organizations across the country are seeing success with. If you registered prior to July 2025 or are new to these meetings\, please use this link to register:\nhttps://maddies.fund/CommunityConversationsRegistration2025 \nAll calls are recorded and uploaded to the Community Conversations page on Maddie’s Pet Forum https://forum.maddiesfund.org/communityconversations \nPlease note: All views expressed on these calls are not necessarily endorsed by Maddie’s Fund. \nWEBSITE LINK:  https://maddies.fund/CommunityConversationsRegistration2025
URL:https://www.sheltermedportal.com/event/online-meeting-mondays-weekly-community-conversations-thankstomaddie-maddies-fund-2-2-2-2-3-6-2-2-3-2-2-3-3/2026-05-18/
LOCATION:Virtual
CATEGORIES:Zoom Meeting
ATTACH;FMTTYPE=image/png:https://www.sheltermedportal.com/wp-content/uploads/2024/05/Weekly-Community-ConverastionsSquare_2.png
END:VEVENT
BEGIN:VEVENT
DTSTART;TZID=America/Los_Angeles:20260520T160000
DTEND;TZID=America/Los_Angeles:20260520T170000
DTSTAMP:20260420T182300
CREATED:20250915T200430Z
LAST-MODIFIED:20260130T214135Z
UID:10006176-1779292800-1779296400@www.sheltermedportal.com
SUMMARY:Online Event - Third Wednesdays - Shelter Med LIVE - UC Davis KSMP
DESCRIPTION:Shelter medicine bridges gaps in veterinary care access\, ensuring animals are sterilized\, vaccinated\, and have the medical treatment they need before going home to the people and communities who care for them. Shelter Med LIVE is the place where vet professionals connect around what it takes to make shelter medicine happen every day—from intake triage to MacGyvering creative fixes. Every third Wednesday\, join your UC Davis Koret Shelter Medicine Program host Dr. Jenn Bennett and special guests for real talk and real solutions. \nAsk questions (or send them in ahead of time). This isn’t a lecture—it’s a conversation for everyone who wants to talk shop about shelter medicine. Kick back and recharge with your colleagues in the middle of a long week. \nThis event has been approved for 1 hour of continuing education credit by CAWA and NACA. \nCan’t make it live? Register to receive the recording and resources after the event\, accessible through the UC Davis Koret Shelter Medicine Program Shelter Learniverse\, #ThanksToMaddie! \nWEBSITE LINK:  https://www.shelterlearniverse.com/events
URL:https://www.sheltermedportal.com/event/online-event-10-15-25-smac-talk-small-patients-big-procedures-weighing-pediatric-spay-and-neuter-considerations-uc-davis-ksmp/2026-05-20/
LOCATION:Virtual
CATEGORIES:Online Event
ATTACH;FMTTYPE=image/png:https://www.sheltermedportal.com/wp-content/uploads/2025/09/SMLSeriesGraphic800x400-1.png
END:VEVENT
BEGIN:VEVENT
DTSTART;TZID=America/Los_Angeles:20260521T100000
DTEND;TZID=America/Los_Angeles:20260521T111500
DTSTAMP:20260420T182300
CREATED:20260413T202237Z
LAST-MODIFIED:20260413T202237Z
UID:10006447-1779357600-1779362100@www.sheltermedportal.com
SUMMARY:Webinar - 5/21/26 - Raccoons\, Reports and Real-Time Maps: Using Data and Maps to Tell Wild Stories and Shape Smart Policies - NACA/Justice Clearinghouse
DESCRIPTION:Whether it’s responding to calls about baby birds or guiding residents through raccoon encounters\, many shelters are more involved with wildlife than they realize. \nBut here’s the catch: if you’re not tracking it\, you’re missing half the story. \nIn this webinar\, you’ll learn how to create a simple yet powerful wildlife tracking system and see how that data can transform into compelling maps and visual stories using low-cost (or even free) tools. We’ll also feature a real-world case study from our Shelter Mentorship partners at Harker Heights Pet Adoption Center in Texas\, showing how data tracking reshaped their approach to wildlife and community engagement. \nWhether you’re an ACO\, shelter manager\, or community outreach specialist\, this webinar will equip you with practical tools to track and visualize wildlife and field service data (including TNR or street dog programs)\, make smarter decisions for both domestic and wild animals\, advocate for resources through clear visual evidence\, and build community trust through transparency and education. \nLet’s turn that “we don’t take wildlife calls” into “we’re leading the way on wildlife care and conflict prevention.” \nPresenters:\nShiloh Wester\, Shelter Administrator for the Harker Heights Pet Adoption Center\nGrace Kahle\, Program Manager for the Urban Wildlife team at Humane World for Animals \nThis webinar has been certified by the National Animal Care & Control Association and is approved for 1 Continuing Education Unit. \nWEBSITE LINK: https://www.justiceclearinghouse.com/webinar/raccoons-reports-and-real-time-maps-using-data-and-maps-to-tell-wild-stories-and-shape-smart-policies/
URL:https://www.sheltermedportal.com/event/webinar-5-21-26-raccoons-reports-and-real-time-maps-using-data-and-maps-to-tell-wild-stories-and-shape-smart-policies-naca-justice-clearinghouse/
LOCATION:Virtual
CATEGORIES:Webinar
ATTACH;FMTTYPE=image/jpeg:https://www.sheltermedportal.com/wp-content/uploads/2026/04/Raccoons-Reports-and-Realtime-Maps-HWA-NACA-2518609789.jpg
END:VEVENT
END:VCALENDAR