BEGIN:VCALENDAR
VERSION:2.0
PRODID:-//Shelter Learniverse - ECPv6.15.20//NONSGML v1.0//EN
CALSCALE:GREGORIAN
METHOD:PUBLISH
X-WR-CALNAME:Shelter Learniverse
X-ORIGINAL-URL:https://www.sheltermedportal.com
X-WR-CALDESC:Events for Shelter Learniverse
REFRESH-INTERVAL;VALUE=DURATION:PT1H
X-Robots-Tag:noindex
X-PUBLISHED-TTL:PT1H
BEGIN:VTIMEZONE
TZID:America/Los_Angeles
BEGIN:DAYLIGHT
TZOFFSETFROM:-0800
TZOFFSETTO:-0700
TZNAME:PDT
DTSTART:20250309T100000
END:DAYLIGHT
BEGIN:STANDARD
TZOFFSETFROM:-0700
TZOFFSETTO:-0800
TZNAME:PST
DTSTART:20251102T090000
END:STANDARD
BEGIN:DAYLIGHT
TZOFFSETFROM:-0800
TZOFFSETTO:-0700
TZNAME:PDT
DTSTART:20260308T100000
END:DAYLIGHT
BEGIN:STANDARD
TZOFFSETFROM:-0700
TZOFFSETTO:-0800
TZNAME:PST
DTSTART:20261101T090000
END:STANDARD
BEGIN:DAYLIGHT
TZOFFSETFROM:-0800
TZOFFSETTO:-0700
TZNAME:PDT
DTSTART:20270314T100000
END:DAYLIGHT
BEGIN:STANDARD
TZOFFSETFROM:-0700
TZOFFSETTO:-0800
TZNAME:PST
DTSTART:20271107T090000
END:STANDARD
END:VTIMEZONE
BEGIN:VEVENT
DTSTART;TZID=America/Los_Angeles:20260621T080000
DTEND;TZID=America/Los_Angeles:20260621T120500
DTSTAMP:20260422T073341
CREATED:20260209T222648Z
LAST-MODIFIED:20260209T222648Z
UID:10006366-1782028800-1782043500@www.sheltermedportal.com
SUMMARY:Hybrid Conference – 6/18/26 to 6/21/26 – PacVet 2026 – CVMA (fee applies)
DESCRIPTION:The 2026 Pacific Veterinary Conference (PacVet)\, sponsored by the California Veterinary Medical Association (CVMA)\, is where veterinary professionals from all walks of the profession come together for a one-of-a-kind educational experience in California. With nearly two decades of impact\, PacVet continues to be a trusted destination for continuing education\, professional connection\, and industry discovery. \nChoose from a wide range of CE tracks designed for veterinarians\, technicians\, practice managers\, practice staff\, and veterinary/RVT students—covering topics like small animal medicine\, small animal surgery\, practice management and ownership\, avian/exotics\, shelter medicine\, and more! Plus\, round out your educational journey with hands-on labs and practical workshops. Beyond the classroom\, explore a lively exhibit hall filled with the latest tools\, tech\, and solutions for your practice. \nWhether you are looking to learn\, connect\, or recharge by the coast\, PacVet 2026 offers the perfect blend of education and inspiration in a setting that celebrates the profession and the people who shape it. \nWEBSITE LINK: https://pacvet.net/
URL:https://www.sheltermedportal.com/event/hybrid-conference-6-18-26-to-6-21-26-pacvet-2026-cvma-fee-applies/2026-06-21/
LOCATION:Virtual
CATEGORIES:Hybrid Conference
ATTACH;FMTTYPE=image/png:https://www.sheltermedportal.com/wp-content/uploads/2026/02/PacVet-2026-Website-Banner-e1770675955110.png
END:VEVENT
BEGIN:VEVENT
DTSTART;TZID=America/Los_Angeles:20260622T110000
DTEND;TZID=America/Los_Angeles:20260622T120000
DTSTAMP:20260422T073341
CREATED:20251210T164800Z
LAST-MODIFIED:20260113T203044Z
UID:10003235-1782126000-1782129600@www.sheltermedportal.com
SUMMARY:Online Meeting - Mondays - Weekly Community Conversations #ThanksToMaddie - Maddie's Fund
DESCRIPTION:Maddie’s Fund hosts a weekly 50-minute Zoom call for animal well-being professionals. These calls are a collaborative space to share exciting new programs and research\, discuss uncomfortable topics\, connect with peers in the industry\, and more\, all while sharing a common goal of preserving the human-animal bond. \nWho Should Join?\nExecutive directors\, animal well-being leaders\, shelter workers\, pet support professionals\, volunteers\, rescue organizations and anyone who shares the common goal of preserving the human-animal bond. \nWin Ca$h for Attending!\nEach month\, Maddie’s Fund will be giving away up to $5\,000 in grants. You can enter to win each time you attend a call or watch on-demand during the month by completing the giveaway drawing entry forms shared in the chat during the calls. \nRegister Today\nJoin us each Monday at 11am PT/2pm ET to receive support and learn about innovative ideas other organizations across the country are seeing success with. If you registered prior to July 2025 or are new to these meetings\, please use this link to register:\nhttps://maddies.fund/CommunityConversationsRegistration2025 \nAll calls are recorded and uploaded to the Community Conversations page on Maddie’s Pet Forum https://forum.maddiesfund.org/communityconversations \nPlease note: All views expressed on these calls are not necessarily endorsed by Maddie’s Fund. \nWEBSITE LINK:  https://maddies.fund/CommunityConversationsRegistration2025
URL:https://www.sheltermedportal.com/event/online-meeting-mondays-weekly-community-conversations-thankstomaddie-maddies-fund-2-2-2-2-3-6-2-2-3-2-2-3-3/2026-06-22/
LOCATION:Virtual
CATEGORIES:Zoom Meeting
ATTACH;FMTTYPE=image/png:https://www.sheltermedportal.com/wp-content/uploads/2024/05/Weekly-Community-ConverastionsSquare_2.png
END:VEVENT
BEGIN:VEVENT
DTSTART;TZID=America/Los_Angeles:20260625T120000
DTEND;TZID=America/Los_Angeles:20260625T130000
DTSTAMP:20260422T073341
CREATED:20250722T193505Z
LAST-MODIFIED:20250722T193506Z
UID:10006074-1782388800-1782392400@www.sheltermedportal.com
SUMMARY:Online Event - Fourth Thursdays - Maddie's Monthly Behavior Connection - Maddie's Fund
DESCRIPTION:Join us on the fourth Thursday of every month as we talk about dog and cat behavior – supporting pets in our community and animal shelters. Each month\, we hear from speakers about topics of interest to our group\, such as behavior medications\, modifying animal behavior\, assessing and improving animal welfare\, and how organizations successfully provide behavior support to dogs and cats. \nWho should join: Animal welfare staff and volunteers who are interested in dog and cat behavior\, and everyone who works to keep pets out of shelters and in homes. \nYou only need to register once for all meetings: https://maddies.fund/MonthlyBehaviorRegistration \nCan’t attend live? Register anyway and you will get a link to the recording within a day or two after each meeting. \nAll recordings and resources shared during the webcast will also be available in the Maddie’s Monthly Behavior Connection group on Maddie’s Pet Forum – https://maddies.fund/monthlybehaviorconnectionMPF \nMaddie’s Fund does not share registration information. \nThe opinions expressed by webinar presenters are their own and do not necessarily represent those of Maddie’s Fund. \nWEBSITE LINK:  https://maddies.fund/MonthlyBehaviorRegistration
URL:https://www.sheltermedportal.com/event/online-event-fourth-thursdays-maddies-monthly-behavior-connection-maddies-fund-18/2026-06-25/
LOCATION:Virtual
CATEGORIES:Online Event
ATTACH;FMTTYPE=image/png:https://www.sheltermedportal.com/wp-content/uploads/2024/03/MaddiesMonthlyBehaviorConnection.png
END:VEVENT
END:VCALENDAR